BEGIN:VCALENDAR
VERSION:2.0
PRODID:-//Humphreys Backstage Live - ECPv4.9.14//NONSGML v1.0//EN
CALSCALE:GREGORIAN
METHOD:PUBLISH
X-WR-CALNAME:Humphreys Backstage Live
X-ORIGINAL-URL:https://www.humphreysbackstagelive.com
X-WR-CALDESC:Events for Humphreys Backstage Live
BEGIN:VTIMEZONE
TZID:America/Los_Angeles
BEGIN:DAYLIGHT
TZOFFSETFROM:-0800
TZOFFSETTO:-0700
TZNAME:PDT
DTSTART:20170312T100000
END:DAYLIGHT
BEGIN:STANDARD
TZOFFSETFROM:-0700
TZOFFSETTO:-0800
TZNAME:PST
DTSTART:20171105T090000
END:STANDARD
END:VTIMEZONE
BEGIN:VEVENT
DTSTART;TZID=America/Los_Angeles:20170827T100000
DTEND;TZID=America/Los_Angeles:20170827T140000
DTSTAMP:20260420T105733
CREATED:20170718T060656Z
LAST-MODIFIED:20170718T060656Z
UID:1691-1503828000-1503842400@www.humphreysbackstagelive.com
SUMMARY:Jason Brown
DESCRIPTION:
URL:https://www.humphreysbackstagelive.com/event/jason-brown-15/
LOCATION:Humphreys Backstage Live\, 2241 Shelter Island Drive\, San Diego\, CA\, 92106\, United States
CATEGORIES:Jazz
GEO:32.7164481;-117.224241
X-APPLE-STRUCTURED-LOCATION;VALUE=URI;X-ADDRESS=Humphreys Backstage Live 2241 Shelter Island Drive San Diego CA 92106 United States;X-APPLE-RADIUS=500;X-TITLE=2241 Shelter Island Drive:geo:-117.224241,32.7164481
END:VEVENT
BEGIN:VEVENT
DTSTART;TZID=America/Los_Angeles:20170827T200000
DTEND;TZID=America/Los_Angeles:20170827T200000
DTSTAMP:20260420T105733
CREATED:20170718T060924Z
LAST-MODIFIED:20170718T062051Z
UID:1693-1503864000-1503864000@www.humphreysbackstagelive.com
SUMMARY:Cerissa McQueen
DESCRIPTION:
URL:https://www.humphreysbackstagelive.com/event/cerissa-mcqueen/
LOCATION:Humphreys Backstage Live\, 2241 Shelter Island Drive\, San Diego\, CA\, 92106\, United States
CATEGORIES:R&B
ATTACH;FMTTYPE=image/png:https://www.humphreysbackstagelive.com/wp-content/uploads/cerissa-1.png
GEO:32.7164481;-117.224241
X-APPLE-STRUCTURED-LOCATION;VALUE=URI;X-ADDRESS=Humphreys Backstage Live 2241 Shelter Island Drive San Diego CA 92106 United States;X-APPLE-RADIUS=500;X-TITLE=2241 Shelter Island Drive:geo:-117.224241,32.7164481
END:VEVENT
END:VCALENDAR