BEGIN:VCALENDAR
VERSION:2.0
PRODID:-//Humphreys Backstage Live - ECPv4.9.14//NONSGML v1.0//EN
CALSCALE:GREGORIAN
METHOD:PUBLISH
X-WR-CALNAME:Humphreys Backstage Live
X-ORIGINAL-URL:https://www.humphreysbackstagelive.com
X-WR-CALDESC:Events for Humphreys Backstage Live
BEGIN:VTIMEZONE
TZID:America/Los_Angeles
BEGIN:DAYLIGHT
TZOFFSETFROM:-0800
TZOFFSETTO:-0700
TZNAME:PDT
DTSTART:20250309T100000
END:DAYLIGHT
BEGIN:STANDARD
TZOFFSETFROM:-0700
TZOFFSETTO:-0800
TZNAME:PST
DTSTART:20251102T090000
END:STANDARD
END:VTIMEZONE
BEGIN:VEVENT
DTSTART;TZID=America/Los_Angeles:20251231T200000
DTEND;TZID=America/Los_Angeles:20251231T235900
DTSTAMP:20260420T074243
CREATED:20251028T154656Z
LAST-MODIFIED:20251231T014226Z
UID:42209-1767211200-1767225540@www.humphreysbackstagelive.com
SUMMARY:NY's Eve Dinner & Dancing - Toga Party Band - SOLD OUT
DESCRIPTION:
URL:https://www.humphreysbackstagelive.com/event/nys-eve-dinner-dancing-toga-party-band-humphreys-restaurant/
LOCATION:Humphreys Backstage Live\, 2241 Shelter Island Drive\, San Diego\, CA\, 92106\, United States
CATEGORIES:80's Dance
ATTACH;FMTTYPE=image/jpeg:https://www.humphreysbackstagelive.com/wp-content/uploads/NY-Eve-2025.jpg
GEO:32.7164481;-117.224241
X-APPLE-STRUCTURED-LOCATION;VALUE=URI;X-ADDRESS=Humphreys Backstage Live 2241 Shelter Island Drive San Diego CA 92106 United States;X-APPLE-RADIUS=500;X-TITLE=2241 Shelter Island Drive:geo:-117.224241,32.7164481
END:VEVENT
END:VCALENDAR