BEGIN:VCALENDAR
VERSION:2.0
PRODID:-//Humphreys Backstage Live - ECPv4.9.14//NONSGML v1.0//EN
CALSCALE:GREGORIAN
METHOD:PUBLISH
X-WR-CALNAME:Humphreys Backstage Live
X-ORIGINAL-URL:https://www.humphreysbackstagelive.com
X-WR-CALDESC:Events for Humphreys Backstage Live
BEGIN:VTIMEZONE
TZID:America/Los_Angeles
BEGIN:DAYLIGHT
TZOFFSETFROM:-0800
TZOFFSETTO:-0700
TZNAME:PDT
DTSTART:20220313T100000
END:DAYLIGHT
BEGIN:STANDARD
TZOFFSETFROM:-0700
TZOFFSETTO:-0800
TZNAME:PST
DTSTART:20221106T090000
END:STANDARD
END:VTIMEZONE
BEGIN:VEVENT
DTSTART;TZID=America/Los_Angeles:20221101T180000
DTEND;TZID=America/Los_Angeles:20221101T220000
DTSTAMP:20260422T001926
CREATED:20210718T215655Z
LAST-MODIFIED:20221017T220610Z
UID:37364-1667325600-1667340000@www.humphreysbackstagelive.com
SUMMARY:James Gossett Trio
DESCRIPTION:
URL:https://www.humphreysbackstagelive.com/event/james-gosset-4/
LOCATION:Humphreys Backstage Live\, 2241 Shelter Island Drive\, San Diego\, CA\, 92106\, United States
CATEGORIES:Acoustic
ATTACH;FMTTYPE=image/jpeg:https://www.humphreysbackstagelive.com/wp-content/uploads/James-Gosset.jpg
GEO:32.7164481;-117.224241
X-APPLE-STRUCTURED-LOCATION;VALUE=URI;X-ADDRESS=Humphreys Backstage Live 2241 Shelter Island Drive San Diego CA 92106 United States;X-APPLE-RADIUS=500;X-TITLE=2241 Shelter Island Drive:geo:-117.224241,32.7164481
END:VEVENT
END:VCALENDAR