BEGIN:VCALENDAR
VERSION:2.0
PRODID:-//Humphreys Backstage Live - ECPv4.9.14//NONSGML v1.0//EN
CALSCALE:GREGORIAN
METHOD:PUBLISH
X-WR-CALNAME:Humphreys Backstage Live
X-ORIGINAL-URL:https://www.humphreysbackstagelive.com
X-WR-CALDESC:Events for Humphreys Backstage Live
BEGIN:VTIMEZONE
TZID:America/Los_Angeles
BEGIN:DAYLIGHT
TZOFFSETFROM:-0800
TZOFFSETTO:-0700
TZNAME:PDT
DTSTART:20190310T100000
END:DAYLIGHT
BEGIN:STANDARD
TZOFFSETFROM:-0700
TZOFFSETTO:-0800
TZNAME:PST
DTSTART:20191103T090000
END:STANDARD
END:VTIMEZONE
BEGIN:VEVENT
DTSTART;TZID=America/Los_Angeles:20190616T100000
DTEND;TZID=America/Los_Angeles:20190616T140000
DTSTAMP:20260421T074736
CREATED:20190520T230734Z
LAST-MODIFIED:20190520T230734Z
UID:34443-1560679200-1560693600@www.humphreysbackstagelive.com
SUMMARY:Father's Day Jazz Brunch
DESCRIPTION:
URL:https://www.humphreysbackstagelive.com/event/fathers-day-jazz-brunch/
LOCATION:Humphreys Backstage Live\, 2241 Shelter Island Drive\, San Diego\, CA\, 92106\, United States
CATEGORIES:Jazz
GEO:32.7164481;-117.224241
X-APPLE-STRUCTURED-LOCATION;VALUE=URI;X-ADDRESS=Humphreys Backstage Live 2241 Shelter Island Drive San Diego CA 92106 United States;X-APPLE-RADIUS=500;X-TITLE=2241 Shelter Island Drive:geo:-117.224241,32.7164481
END:VEVENT
END:VCALENDAR